BEGIN:VCALENDAR
VERSION:2.0
PRODID:-//kyohatsu//JP
CALSCALE:GREGORIAN
BEGIN:VEVENT
DTSTART;VALUE=DATE:20260522
SUMMARY:【輸入盤】エヴリバディ・エルス・イズ・ドゥーイング・イット・ソー・ホワイ・キャント・ウィ？（アナログ盤）
DESCRIPTION:CRANBERRIES 
UID:0602488315777@kyohatsu.lb-product.com
END:VEVENT
END:VCALENDAR
