BEGIN:VCALENDAR
VERSION:2.0
PRODID:-//kyohatsu//JP
CALSCALE:GREGORIAN
BEGIN:VEVENT
DTSTART;VALUE=DATE:20260624
SUMMARY:CROSS OVER
DESCRIPTION:CLOUD NI9E & OGI MUSOU PRODUCTIONS
UID:4526180757276@kyohatsu.lb-product.com
END:VEVENT
END:VCALENDAR
