BEGIN:VCALENDAR
VERSION:2.0
PRODID:-//kyohatsu//JP
CALSCALE:GREGORIAN
BEGIN:VEVENT
DTSTART;VALUE=DATE:20260722
SUMMARY:Hokorobi【アナログ盤】
DESCRIPTION:Beachside talks Tokyo Beatniks Record Label、DIW
UID:4988044137769@kyohatsu.lb-product.com
END:VEVENT
END:VCALENDAR
