BEGIN:VCALENDAR
VERSION:2.0
PRODID:-//kyohatsu//JP
CALSCALE:GREGORIAN
BEGIN:VEVENT
DTSTART;VALUE=DATE:20260805
SUMMARY:GIRL　FRIEND【アナログ盤】
DESCRIPTION:Base　Ball　Bear 
UID:4988031873397@kyohatsu.lb-product.com
END:VEVENT
BEGIN:VEVENT
DTSTART;VALUE=DATE:20260805
SUMMARY:ELECTRIC　SUMMER【アナログ盤】
DESCRIPTION:Base　Ball　Bear 
UID:4988031873403@kyohatsu.lb-product.com
END:VEVENT
BEGIN:VEVENT
DTSTART;VALUE=DATE:20260805
SUMMARY:STAND　BY　ME【アナログ盤】
DESCRIPTION:Base　Ball　Bear 
UID:4988031873410@kyohatsu.lb-product.com
END:VEVENT
BEGIN:VEVENT
DTSTART;VALUE=DATE:20260805
SUMMARY:バンドBについて【アナログ盤】
DESCRIPTION:Base　Ball　Bear 
UID:4988031873380@kyohatsu.lb-product.com
END:VEVENT
BEGIN:VEVENT
DTSTART;VALUE=DATE:20260805
SUMMARY:C【アナログ盤】
DESCRIPTION:Base　Ball　Bear 
UID:4988031873427@kyohatsu.lb-product.com
END:VEVENT
END:VCALENDAR
