BEGIN:VCALENDAR
VERSION:2.0
PRODID:-//kyohatsu//JP
CALSCALE:GREGORIAN
BEGIN:VEVENT
DTSTART;VALUE=DATE:20260708
SUMMARY:タイトル未定 (初回生産限定盤B CD＋Blu-ray)
DESCRIPTION:BUDDiiS (株)ソニー・ミュージックレーベルズ
UID:4547366820904@kyohatsu.lb-product.com
END:VEVENT
BEGIN:VEVENT
DTSTART;VALUE=DATE:20260708
SUMMARY:【楽天ブックス限定先着特典】タイトル未定 (初回生産限定盤A CD＋Blu-ray)(オリジナル3カットフォトシート(メンバー9種からランダム1種))
DESCRIPTION:BUDDiiS (株)ソニー・ミュージックレーベルズ
UID:2100014948768@kyohatsu.lb-product.com
END:VEVENT
BEGIN:VEVENT
DTSTART;VALUE=DATE:20260708
SUMMARY:【楽天ブックス限定先着特典】タイトル未定(オリジナル3カットフォトシート(メンバー9種からランダム1種))
DESCRIPTION:BUDDiiS (株)ソニー・ミュージックレーベルズ
UID:4547366820911@kyohatsu.lb-product.com
END:VEVENT
BEGIN:VEVENT
DTSTART;VALUE=DATE:20260708
SUMMARY:【楽天ブックス限定先着特典】タイトル未定 (初回生産限定盤B CD＋Blu-ray)(オリジナル3カットフォトシート(メンバー9種からランダム1種))
DESCRIPTION:BUDDiiS (株)ソニー・ミュージックレーベルズ
UID:2100014948775@kyohatsu.lb-product.com
END:VEVENT
BEGIN:VEVENT
DTSTART;VALUE=DATE:20260708
SUMMARY:タイトル未定 (初回生産限定盤A CD＋Blu-ray)
DESCRIPTION:BUDDiiS (株)ソニー・ミュージックレーベルズ
UID:4547366820898@kyohatsu.lb-product.com
END:VEVENT
END:VCALENDAR
