BEGIN:VCALENDAR
VERSION:2.0
PRODID:-//kyohatsu//JP
CALSCALE:GREGORIAN
BEGIN:VEVENT
DTSTART;VALUE=DATE:20260528
SUMMARY:タイムリープ、やってみた
DESCRIPTION:BTTP サンマーク出版
UID:9784763143068@kyohatsu.lb-product.com
END:VEVENT
END:VCALENDAR
