BEGIN:VCALENDAR
VERSION:2.0
PRODID:-//kyohatsu//JP
CALSCALE:GREGORIAN
BEGIN:VEVENT
DTSTART;VALUE=DATE:20260522
SUMMARY:【輸入盤】エヴリワン・フォー・テン・ミニッツ
DESCRIPTION:BLEACHERS 
UID:5060257965809@kyohatsu.lb-product.com
END:VEVENT
END:VCALENDAR
