BEGIN:VCALENDAR
VERSION:2.0
PRODID:-//kyohatsu//JP
CALSCALE:GREGORIAN
BEGIN:VEVENT
DTSTART;VALUE=DATE:20260624
SUMMARY:ロメオの心臓
DESCRIPTION:BLANKEY JET CITY ユニバーサルミュージック
UID:4988031856635@kyohatsu.lb-product.com
END:VEVENT
BEGIN:VEVENT
DTSTART;VALUE=DATE:20260624
SUMMARY:Red Guitar and the Truth
DESCRIPTION:BLANKEY JET CITY ユニバーサルミュージック
UID:4988031856550@kyohatsu.lb-product.com
END:VEVENT
BEGIN:VEVENT
DTSTART;VALUE=DATE:20260624
SUMMARY:SKUNK
DESCRIPTION:BLANKEY JET CITY ユニバーサルミュージック
UID:4988031856611@kyohatsu.lb-product.com
END:VEVENT
BEGIN:VEVENT
DTSTART;VALUE=DATE:20260624
SUMMARY:幸せの鐘が鳴り響き 僕はただ悲しいふりをする
DESCRIPTION:BLANKEY JET CITY ユニバーサルミュージック
UID:4988031856598@kyohatsu.lb-product.com
END:VEVENT
BEGIN:VEVENT
DTSTART;VALUE=DATE:20260624
SUMMARY:METAL MOON
DESCRIPTION:BLANKEY JET CITY ユニバーサルミュージック
UID:4988031856581@kyohatsu.lb-product.com
END:VEVENT
BEGIN:VEVENT
DTSTART;VALUE=DATE:20260624
SUMMARY:THE SIX
DESCRIPTION:BLANKEY JET CITY ユニバーサルミュージック
UID:4988031856604@kyohatsu.lb-product.com
END:VEVENT
BEGIN:VEVENT
DTSTART;VALUE=DATE:20260624
SUMMARY:BANG!
DESCRIPTION:BLANKEY JET CITY ユニバーサルミュージック
UID:4988031856567@kyohatsu.lb-product.com
END:VEVENT
BEGIN:VEVENT
DTSTART;VALUE=DATE:20260624
SUMMARY:HARLEM JETS
DESCRIPTION:BLANKEY JET CITY ユニバーサルミュージック
UID:4988031856642@kyohatsu.lb-product.com
END:VEVENT
BEGIN:VEVENT
DTSTART;VALUE=DATE:20260624
SUMMARY:TRINITY from the shadows
DESCRIPTION:BLANKEY JET CITY ユニバーサルミュージック
UID:4988031856659@kyohatsu.lb-product.com
END:VEVENT
BEGIN:VEVENT
DTSTART;VALUE=DATE:20260624
SUMMARY:LOVE FLASH FEVER
DESCRIPTION:BLANKEY JET CITY ユニバーサルミュージック
UID:4988031856628@kyohatsu.lb-product.com
END:VEVENT
BEGIN:VEVENT
DTSTART;VALUE=DATE:20260624
SUMMARY:TRINITY from the 【アナログ盤】
DESCRIPTION:BLANKEY JET CITY ユニバーサルミュージック
UID:4988031759455@kyohatsu.lb-product.com
END:VEVENT
BEGIN:VEVENT
DTSTART;VALUE=DATE:20260624
SUMMARY:C.B.JIM
DESCRIPTION:BLANKEY JET CITY ユニバーサルミュージック
UID:4988031856574@kyohatsu.lb-product.com
END:VEVENT
END:VCALENDAR
