BEGIN:VCALENDAR
VERSION:2.0
PRODID:-//kyohatsu//JP
CALSCALE:GREGORIAN
BEGIN:VEVENT
DTSTART;VALUE=DATE:20260707
SUMMARY:DARK-ISM -20th Anniversary Compilation-
DESCRIPTION:BALZAC DIWPHALANX
UID:4988044136700@kyohatsu.lb-product.com
END:VEVENT
END:VCALENDAR
