BEGIN:VCALENDAR
VERSION:2.0
PRODID:-//kyohatsu//JP
CALSCALE:GREGORIAN
BEGIN:VEVENT
DTSTART;VALUE=DATE:20260624
SUMMARY:THE BLACK SHEEP OF THE FAMILY (初回盤 CD＋Blu-ray)
DESCRIPTION:Arche (株)ポニーキャニオン
UID:4524135297457@kyohatsu.lb-product.com
END:VEVENT
BEGIN:VEVENT
DTSTART;VALUE=DATE:20260624
SUMMARY:【楽天ブックス限定先着特典】THE BLACK SHEEP OF THE FAMILY(A4クリアファイル)
DESCRIPTION:Arche (株)ポニーキャニオン
UID:4524135297464@kyohatsu.lb-product.com
END:VEVENT
BEGIN:VEVENT
DTSTART;VALUE=DATE:20260624
SUMMARY:【楽天ブックス限定先着特典】THE BLACK SHEEP OF THE FAMILY (初回盤 CD＋Blu-ray)(A4クリアファイル)
DESCRIPTION:Arche (株)ポニーキャニオン
UID:2100014962054@kyohatsu.lb-product.com
END:VEVENT
END:VCALENDAR
