BEGIN:VCALENDAR
VERSION:2.0
PRODID:-//kyohatsu//JP
CALSCALE:GREGORIAN
BEGIN:VEVENT
DTSTART;VALUE=DATE:20260701
SUMMARY:In The Wake Of KING AUTO-MOD
DESCRIPTION:AUTO-MOD TELEGRAPH2
UID:4988044137813@kyohatsu.lb-product.com
END:VEVENT
BEGIN:VEVENT
DTSTART;VALUE=DATE:20260701
SUMMARY:In The Wake Of KING AUTO-MOD
DESCRIPTION:AUTO-MOD TELEGRAPH2
UID:4988044137691@kyohatsu.lb-product.com
END:VEVENT
END:VCALENDAR
