BEGIN:VCALENDAR
VERSION:2.0
PRODID:-//kyohatsu//JP
CALSCALE:GREGORIAN
BEGIN:VEVENT
DTSTART;VALUE=DATE:20260527
SUMMARY:Cusp【初回生産限定盤 CD＋Blu-ray】
DESCRIPTION:ASCA (株)ソニー・ミュージックレーベルズ
UID:4547366813500@kyohatsu.lb-product.com
END:VEVENT
BEGIN:VEVENT
DTSTART;VALUE=DATE:20260527
SUMMARY:【楽天ブックス限定先着特典】Cusp【通常盤】(オリジナルポストカード(楽天ブックス絵柄))
DESCRIPTION:ASCA (株)ソニー・ミュージックレーベルズ
UID:4547366813517@kyohatsu.lb-product.com
END:VEVENT
BEGIN:VEVENT
DTSTART;VALUE=DATE:20260527
SUMMARY:【楽天ブックス限定先着特典】Cusp【期間生産限定盤 CD＋Blu-ray】(オリジナルポストカード(楽天ブックス絵柄))
DESCRIPTION:ASCA (株)ソニー・ミュージックレーベルズ
UID:4547366813524@kyohatsu.lb-product.com
END:VEVENT
BEGIN:VEVENT
DTSTART;VALUE=DATE:20260527
SUMMARY:【楽天ブックス限定先着特典】Cusp【初回生産限定盤 CD＋Blu-ray】(オリジナルポストカード(楽天ブックス絵柄))
DESCRIPTION:ASCA (株)ソニー・ミュージックレーベルズ
UID:2100014945842@kyohatsu.lb-product.com
END:VEVENT
END:VCALENDAR
