BEGIN:VCALENDAR
VERSION:2.0
PRODID:-//kyohatsu//JP
CALSCALE:GREGORIAN
BEGIN:VEVENT
DTSTART;VALUE=DATE:20260527
SUMMARY:VEMOD DELUXE EDITION/暗鬱 デラックス・エディション
DESCRIPTION:ANEKDOTEN (株)ディスクユニオン
UID:4988044842922@kyohatsu.lb-product.com
END:VEVENT
END:VCALENDAR
