BEGIN:VCALENDAR
VERSION:2.0
PRODID:-//kyohatsu//JP
CALSCALE:GREGORIAN
BEGIN:VEVENT
DTSTART;VALUE=DATE:20260605
SUMMARY:千綿センパイ、無視しないで。
DESCRIPTION:96SK 芳文社
UID:9784832293311@kyohatsu.lb-product.com
END:VEVENT
END:VCALENDAR
