BEGIN:VCALENDAR
VERSION:2.0
PRODID:-//kyohatsu//JP
CALSCALE:GREGORIAN
BEGIN:VEVENT
DTSTART;VALUE=DATE:20260601
SUMMARY:なにも理解らない　2
DESCRIPTION:7Liquid 芳文社
UID:9784832206243@kyohatsu.lb-product.com
END:VEVENT
END:VCALENDAR
