BEGIN:VCALENDAR
VERSION:2.0
PRODID:-//kyohatsu//JP
CALSCALE:GREGORIAN
BEGIN:VEVENT
DTSTART;VALUE=DATE:20261125
SUMMARY:【楽天ブックス限定先着特典】THE IDOLM@STER 765PRO ALLSTARS LIVE 〜NEVER END IDOL!!!!!!!!!!!!!〜 LIVE Blu-ray (通常版DAY1)【Blu-ray】(2L判ブロマイド14種セット)
DESCRIPTION:765PRO ALLSTARS (株)バンダイナムコエンターテインメント
UID:2100014577401@kyohatsu.lb-product.com
END:VEVENT
BEGIN:VEVENT
DTSTART;VALUE=DATE:20261125
SUMMARY:【楽天ブックス限定先着特典】THE IDOLM@STER 765PRO ALLSTARS LIVE 〜NEVER END IDOL!!!!!!!!!!!!!〜 LIVE Blu-ray (通常版DAY2)【Blu-ray】(2L判ブロマイド14種セット)
DESCRIPTION:765PRO ALLSTARS (株)バンダイナムコエンターテインメント
UID:2100014577418@kyohatsu.lb-product.com
END:VEVENT
BEGIN:VEVENT
DTSTART;VALUE=DATE:20261125
SUMMARY:THE IDOLM@STER 765PRO ALLSTARS LIVE 〜NEVER END IDOL!!!!!!!!!!!!!〜 LIVE Blu-ray (通常版DAY2)【Blu-ray】
DESCRIPTION:765PRO ALLSTARS (株)バンダイナムコエンターテインメント
UID:4540774809196@kyohatsu.lb-product.com
END:VEVENT
BEGIN:VEVENT
DTSTART;VALUE=DATE:20261125
SUMMARY:THE IDOLM@STER 765PRO ALLSTARS LIVE 〜NEVER END IDOL!!!!!!!!!!!!!〜 LIVE Blu-ray (通常版DAY1)【Blu-ray】
DESCRIPTION:765PRO ALLSTARS (株)バンダイナムコエンターテインメント
UID:4540774809172@kyohatsu.lb-product.com
END:VEVENT
END:VCALENDAR
