BEGIN:VCALENDAR
VERSION:2.0
PRODID:-//kyohatsu//JP
CALSCALE:GREGORIAN
BEGIN:VEVENT
DTSTART;VALUE=DATE:20260812
SUMMARY:new chapter purple (初回盤A＋初回盤B＋通常盤セット)
DESCRIPTION:.ENDRECHERI. (株)ソニー・ミュージックレーベルズ
UID:2100014946016@kyohatsu.lb-product.com
END:VEVENT
BEGIN:VEVENT
DTSTART;VALUE=DATE:20260812
SUMMARY:new chapter purple(初回生産限定盤A CD＋Blu-ray)
DESCRIPTION:.ENDRECHERI. (株)ソニー・ミュージックレーベルズ
UID:4547366820928@kyohatsu.lb-product.com
END:VEVENT
BEGIN:VEVENT
DTSTART;VALUE=DATE:20260812
SUMMARY:【楽天ブックス限定先着特典+早期予約特典】new chapter purple(初回生産限定盤A CD＋Blu-ray)(オリジナルフォンタブ+クリアスタンド)
DESCRIPTION:.ENDRECHERI. (株)ソニー・ミュージックレーベルズ
UID:2100014944661@kyohatsu.lb-product.com
END:VEVENT
BEGIN:VEVENT
DTSTART;VALUE=DATE:20260812
SUMMARY:【楽天ブックス限定先着特典+早期予約特典】new chapter purple (初回生産限定盤B CD＋フォトブック)(オリジナルフォンタブ+クリアスタンド)
DESCRIPTION:.ENDRECHERI. (株)ソニー・ミュージックレーベルズ
UID:2100014944685@kyohatsu.lb-product.com
END:VEVENT
BEGIN:VEVENT
DTSTART;VALUE=DATE:20260812
SUMMARY:【楽天ブックス限定先着特典+早期予約特典】new chapter purple (初回盤A＋初回盤B＋通常盤セット)(オリジナルフォンタブ3個+クリアスタンド3個)
DESCRIPTION:.ENDRECHERI. (株)ソニー・ミュージックレーベルズ
UID:2100014944722@kyohatsu.lb-product.com
END:VEVENT
BEGIN:VEVENT
DTSTART;VALUE=DATE:20260812
SUMMARY:new chapter purple (初回生産限定盤B CD＋フォトブック)
DESCRIPTION:.ENDRECHERI. (株)ソニー・ミュージックレーベルズ
UID:4547366820935@kyohatsu.lb-product.com
END:VEVENT
BEGIN:VEVENT
DTSTART;VALUE=DATE:20260812
SUMMARY:【楽天ブックス限定先着特典+早期予約特典】new chapter purple (通常盤初仕様)CD only(オリジナルフォンタブ+クリアスタンド)
DESCRIPTION:.ENDRECHERI. (株)ソニー・ミュージックレーベルズ
UID:2100014944708@kyohatsu.lb-product.com
END:VEVENT
BEGIN:VEVENT
DTSTART;VALUE=DATE:20260812
SUMMARY:new chapter purple (通常盤初仕様)CD only
DESCRIPTION:.ENDRECHERI. (株)ソニー・ミュージックレーベルズ
UID:4547366820942@kyohatsu.lb-product.com
END:VEVENT
END:VCALENDAR
