BEGIN:VCALENDAR
VERSION:2.0
PRODID:-//kyohatsu//JP
CALSCALE:GREGORIAN
BEGIN:VEVENT
DTSTART;VALUE=DATE:20260526
SUMMARY:オジサンの話し方はなぜ嫌われるのか
DESCRIPTION:齋藤孝 リベラル社
UID:9784434377471@kyohatsu.lb-product.com
END:VEVENT
END:VCALENDAR
