BEGIN:VCALENDAR
VERSION:2.0
PRODID:-//kyohatsu//JP
CALSCALE:GREGORIAN
BEGIN:VEVENT
DTSTART;VALUE=DATE:20260512
SUMMARY:セピアの夏　大阪
DESCRIPTION:黒瀬　準 つちや書店
UID:9784806919346@kyohatsu.lb-product.com
END:VEVENT
END:VCALENDAR
