BEGIN:VCALENDAR
VERSION:2.0
PRODID:-//kyohatsu//JP
CALSCALE:GREGORIAN
BEGIN:VEVENT
DTSTART;VALUE=DATE:20260526
SUMMARY:忍び同心捕物控3　残花の契り
DESCRIPTION:黒崎竜一郎 二見書房
UID:9784576260303@kyohatsu.lb-product.com
END:VEVENT
END:VCALENDAR
