BEGIN:VCALENDAR
VERSION:2.0
PRODID:-//kyohatsu//JP
CALSCALE:GREGORIAN
BEGIN:VEVENT
DTSTART;VALUE=DATE:20260610
SUMMARY:ケダモノアラシーStay with me baby!-
DESCRIPTION:黒井モリー 海王社
UID:9784796418256@kyohatsu.lb-product.com
END:VEVENT
END:VCALENDAR
