BEGIN:VCALENDAR
VERSION:2.0
PRODID:-//kyohatsu//JP
CALSCALE:GREGORIAN
BEGIN:VEVENT
DTSTART;VALUE=DATE:20260424
SUMMARY:罪過の代償 警視庁文書捜査官（12）
DESCRIPTION:麻見　和史 KADOKAWA
UID:9784041174487@kyohatsu.lb-product.com
END:VEVENT
BEGIN:VEVENT
DTSTART;VALUE=DATE:20260612
SUMMARY:鴉の箱庭　警視庁殺人分析班
DESCRIPTION:麻見 和史 講談社
UID:9784065442807@kyohatsu.lb-product.com
END:VEVENT
END:VCALENDAR
