BEGIN:VCALENDAR
VERSION:2.0
PRODID:-//kyohatsu//JP
CALSCALE:GREGORIAN
BEGIN:VEVENT
DTSTART;VALUE=DATE:20260511
SUMMARY:うえからみたり よこからみたり
DESCRIPTION:麻生知子 株式会社 福音館書店
UID:9784834089240@kyohatsu.lb-product.com
END:VEVENT
END:VCALENDAR
