BEGIN:VCALENDAR
VERSION:2.0
PRODID:-//kyohatsu//JP
CALSCALE:GREGORIAN
BEGIN:VEVENT
DTSTART;VALUE=DATE:20260605
SUMMARY:女形と修羅
DESCRIPTION:麻宮 好 小学館
UID:9784094075717@kyohatsu.lb-product.com
END:VEVENT
END:VCALENDAR
