BEGIN:VCALENDAR
VERSION:2.0
PRODID:-//kyohatsu//JP
CALSCALE:GREGORIAN
BEGIN:VEVENT
DTSTART;VALUE=DATE:20260819
SUMMARY:タイトル未定
DESCRIPTION:麻倉未稀 キングレコード(株)
UID:4988003670368@kyohatsu.lb-product.com
END:VEVENT
END:VCALENDAR
