BEGIN:VCALENDAR
VERSION:2.0
PRODID:-//kyohatsu//JP
CALSCALE:GREGORIAN
BEGIN:VEVENT
DTSTART;VALUE=DATE:20260525
SUMMARY:さみしいマモノと偽勇者
DESCRIPTION:鹿島こたる 祥伝社
UID:9784396704537@kyohatsu.lb-product.com
END:VEVENT
END:VCALENDAR
