BEGIN:VCALENDAR
VERSION:2.0
PRODID:-//kyohatsu//JP
CALSCALE:GREGORIAN
BEGIN:VEVENT
DTSTART;VALUE=DATE:20260610
SUMMARY:再臨(さいりん)
DESCRIPTION:鹿 チュンペイ
UID:4529971414310@kyohatsu.lb-product.com
END:VEVENT
END:VCALENDAR
