BEGIN:VCALENDAR
VERSION:2.0
PRODID:-//kyohatsu//JP
CALSCALE:GREGORIAN
BEGIN:VEVENT
DTSTART;VALUE=DATE:20260812
SUMMARY:にじさんじ WORLD TOUR 2025 Singin’ in the Rainbow！福岡公演(通常盤)【Blu-ray】
DESCRIPTION:鷹宮リオン、夢追翔、星川サラ、不破湊、オリバー・エバンス、倉持めると ANYCOLOR(株)
UID:4573600263565@kyohatsu.lb-product.com
END:VEVENT
END:VCALENDAR
