BEGIN:VCALENDAR
VERSION:2.0
PRODID:-//kyohatsu//JP
CALSCALE:GREGORIAN
BEGIN:VEVENT
DTSTART;VALUE=DATE:20260513
SUMMARY:若殿はつらいよ 豊太閤の幻女（第23巻）
DESCRIPTION:鳴海 丈 コスミック出版
UID:9784774767260@kyohatsu.lb-product.com
END:VEVENT
END:VCALENDAR
