BEGIN:VCALENDAR
VERSION:2.0
PRODID:-//kyohatsu//JP
CALSCALE:GREGORIAN
BEGIN:VEVENT
DTSTART;VALUE=DATE:20260529
SUMMARY:キャンパス・ノベルとアカデミックライフ
DESCRIPTION:鳥飼 真人 小鳥遊書房
UID:9784867801062@kyohatsu.lb-product.com
END:VEVENT
END:VCALENDAR
