BEGIN:VCALENDAR
VERSION:2.0
PRODID:-//kyohatsu//JP
CALSCALE:GREGORIAN
BEGIN:VEVENT
DTSTART;VALUE=DATE:20260513
SUMMARY:浮雲十四郎斬日記【一】 金尽剣法〈新装版〉
DESCRIPTION:鳥羽 亮 双葉社
UID:9784575672831@kyohatsu.lb-product.com
END:VEVENT
BEGIN:VEVENT
DTSTART;VALUE=DATE:20260513
SUMMARY:闇の用心棒【十】酔剣
DESCRIPTION:鳥羽 亮 コスミック出版
UID:9784774767253@kyohatsu.lb-product.com
END:VEVENT
END:VCALENDAR
