BEGIN:VCALENDAR
VERSION:2.0
PRODID:-//kyohatsu//JP
CALSCALE:GREGORIAN
BEGIN:VEVENT
DTSTART;VALUE=DATE:20260610
SUMMARY:恋々たる証左
DESCRIPTION:鳥生 莉世 リブレ
UID:9784799778272@kyohatsu.lb-product.com
END:VEVENT
END:VCALENDAR
