BEGIN:VCALENDAR
VERSION:2.0
PRODID:-//kyohatsu//JP
CALSCALE:GREGORIAN
BEGIN:VEVENT
DTSTART;VALUE=DATE:20260701
SUMMARY:GOLDEN☆BEST 鳥山雄司〜Sony Music Years〜
DESCRIPTION:鳥山雄司 (株)ソニー・ミュージックダイレクト
UID:4547366820133@kyohatsu.lb-product.com
END:VEVENT
END:VCALENDAR
