BEGIN:VCALENDAR
VERSION:2.0
PRODID:-//kyohatsu//JP
CALSCALE:GREGORIAN
BEGIN:VEVENT
DTSTART;VALUE=DATE:20260529
SUMMARY:二月に殺して桜に埋める 1
DESCRIPTION:鳥 トマト 白泉社
UID:9784592160205@kyohatsu.lb-product.com
END:VEVENT
END:VCALENDAR
