BEGIN:VCALENDAR
VERSION:2.0
PRODID:-//kyohatsu//JP
CALSCALE:GREGORIAN
BEGIN:VEVENT
DTSTART;VALUE=DATE:20260525
SUMMARY:恋もおかわりできますか？
DESCRIPTION:鯨田ヒロト Jパブリッシング
UID:9784866698564@kyohatsu.lb-product.com
END:VEVENT
END:VCALENDAR
