BEGIN:VCALENDAR
VERSION:2.0
PRODID:-//kyohatsu//JP
CALSCALE:GREGORIAN
BEGIN:VEVENT
DTSTART;VALUE=DATE:20260515
SUMMARY:沙を噛め、肺魚
DESCRIPTION:鯨井 あめ 講談社
UID:9784065430644@kyohatsu.lb-product.com
END:VEVENT
END:VCALENDAR
