BEGIN:VCALENDAR
VERSION:2.0
PRODID:-//kyohatsu//JP
CALSCALE:GREGORIAN
BEGIN:VEVENT
DTSTART;VALUE=DATE:20260625
SUMMARY:後宮の筆跡鑑定官（1）
DESCRIPTION:高里　まつり KADOKAWA
UID:9784049522068@kyohatsu.lb-product.com
END:VEVENT
END:VCALENDAR
