BEGIN:VCALENDAR
VERSION:2.0
PRODID:-//kyohatsu//JP
CALSCALE:GREGORIAN
BEGIN:VEVENT
DTSTART;VALUE=DATE:20260515
SUMMARY:星の教室
DESCRIPTION:高田 郁 角川春樹事務所
UID:9784758448062@kyohatsu.lb-product.com
END:VEVENT
END:VCALENDAR
