BEGIN:VCALENDAR
VERSION:2.0
PRODID:-//kyohatsu//JP
CALSCALE:GREGORIAN
BEGIN:VEVENT
DTSTART;VALUE=DATE:20260501
SUMMARY:山が泣いた
DESCRIPTION:高津典昭 文芸社
UID:9784286275437@kyohatsu.lb-product.com
END:VEVENT
END:VCALENDAR
