BEGIN:VCALENDAR
VERSION:2.0
PRODID:-//kyohatsu//JP
CALSCALE:GREGORIAN
BEGIN:VEVENT
DTSTART;VALUE=DATE:20260610
SUMMARY:84歳、「ま、いいか」で人生うまくいく
DESCRIPTION:高橋恵 あさ出版
UID:9784866678351@kyohatsu.lb-product.com
END:VEVENT
END:VCALENDAR
