BEGIN:VCALENDAR
VERSION:2.0
PRODID:-//kyohatsu//JP
CALSCALE:GREGORIAN
BEGIN:VEVENT
DTSTART;VALUE=DATE:20260428
SUMMARY:マンガ爆速インストール！　教科書の日本文学をぎゅっと要約
DESCRIPTION:高橋大成 えほんの杜
UID:9784904188842@kyohatsu.lb-product.com
END:VEVENT
END:VCALENDAR
