BEGIN:VCALENDAR
VERSION:2.0
PRODID:-//kyohatsu//JP
CALSCALE:GREGORIAN
BEGIN:VEVENT
DTSTART;VALUE=DATE:20260605
SUMMARY:ダイダラ（4）
DESCRIPTION:高橋　碁飯 ヒーローズ
UID:9784868051886@kyohatsu.lb-product.com
END:VEVENT
END:VCALENDAR
