BEGIN:VCALENDAR
VERSION:2.0
PRODID:-//kyohatsu//JP
CALSCALE:GREGORIAN
BEGIN:VEVENT
DTSTART;VALUE=DATE:20260529
SUMMARY:スターリン主義から百年の世界
DESCRIPTION:高橋 彬 文藝春秋
UID:9784160090873@kyohatsu.lb-product.com
END:VEVENT
END:VCALENDAR
