BEGIN:VCALENDAR
VERSION:2.0
PRODID:-//kyohatsu//JP
CALSCALE:GREGORIAN
BEGIN:VEVENT
DTSTART;VALUE=DATE:20260617
SUMMARY:今 潮騒のまちへ…
DESCRIPTION:高森有紀 日本コロムビア(株)
UID:4549767372808@kyohatsu.lb-product.com
END:VEVENT
END:VCALENDAR
