BEGIN:VCALENDAR
VERSION:2.0
PRODID:-//kyohatsu//JP
CALSCALE:GREGORIAN
BEGIN:VEVENT
DTSTART;VALUE=DATE:20260930
SUMMARY:TVアニメ「FAIRY TAIL」オリジナルサウンドトラックVOL.2【アナログ盤】
DESCRIPTION:高梨康治 (株)ポニーキャニオン
UID:4524135307002@kyohatsu.lb-product.com
END:VEVENT
BEGIN:VEVENT
DTSTART;VALUE=DATE:20260930
SUMMARY:TVアニメ「FAIRY TAIL」オリジナルサウンドトラックVOL.4【アナログ盤】
DESCRIPTION:高梨康治 (株)ポニーキャニオン
UID:4524135307026@kyohatsu.lb-product.com
END:VEVENT
BEGIN:VEVENT
DTSTART;VALUE=DATE:20260930
SUMMARY:TVアニメ「FAIRY TAIL」オリジナルサウンドトラックVOL.1【アナログ盤】
DESCRIPTION:高梨康治 (株)ポニーキャニオン
UID:4524135306999@kyohatsu.lb-product.com
END:VEVENT
BEGIN:VEVENT
DTSTART;VALUE=DATE:20260930
SUMMARY:TVアニメ「FAIRY TAIL」オリジナルサウンドトラックVOL.3【アナログ盤】
DESCRIPTION:高梨康治 (株)ポニーキャニオン
UID:4524135307019@kyohatsu.lb-product.com
END:VEVENT
END:VCALENDAR
