BEGIN:VCALENDAR
VERSION:2.0
PRODID:-//kyohatsu//JP
CALSCALE:GREGORIAN
BEGIN:VEVENT
DTSTART;VALUE=DATE:20260622
SUMMARY:帝国の死角
DESCRIPTION:高木彬光 中央公論新社
UID:9784122078048@kyohatsu.lb-product.com
END:VEVENT
BEGIN:VEVENT
DTSTART;VALUE=DATE:20260622
SUMMARY:帝国の死角
DESCRIPTION:高木彬光 中央公論新社
UID:9784122078055@kyohatsu.lb-product.com
END:VEVENT
END:VCALENDAR
