BEGIN:VCALENDAR
VERSION:2.0
PRODID:-//kyohatsu//JP
CALSCALE:GREGORIAN
BEGIN:VEVENT
DTSTART;VALUE=DATE:20260501
SUMMARY:蒼霄の風ー螢に為るー
DESCRIPTION:高庭淳 文芸社
UID:9784286276014@kyohatsu.lb-product.com
END:VEVENT
END:VCALENDAR
