BEGIN:VCALENDAR
VERSION:2.0
PRODID:-//kyohatsu//JP
CALSCALE:GREGORIAN
BEGIN:VEVENT
DTSTART;VALUE=DATE:20260610
SUMMARY:君のいない朝がくる
DESCRIPTION:高嶋弘之 キングレコード(株)
UID:4988003669553@kyohatsu.lb-product.com
END:VEVENT
END:VCALENDAR
