BEGIN:VCALENDAR
VERSION:2.0
PRODID:-//kyohatsu//JP
CALSCALE:GREGORIAN
BEGIN:VEVENT
DTSTART;VALUE=DATE:20260511
SUMMARY:首都襲撃（上）
DESCRIPTION:高嶋 哲夫 PHP研究所
UID:9784569905709@kyohatsu.lb-product.com
END:VEVENT
BEGIN:VEVENT
DTSTART;VALUE=DATE:20260511
SUMMARY:首都襲撃（下）
DESCRIPTION:高嶋 哲夫 PHP研究所
UID:9784569905716@kyohatsu.lb-product.com
END:VEVENT
END:VCALENDAR
