BEGIN:VCALENDAR
VERSION:2.0
PRODID:-//kyohatsu//JP
CALSCALE:GREGORIAN
BEGIN:VEVENT
DTSTART;VALUE=DATE:20260527
SUMMARY:さほこクエスト〜陰キャ女子、紳士向け同人RPG世界で勇者になる〜　3
DESCRIPTION:高山としのり 秋田書店
UID:9784253013734@kyohatsu.lb-product.com
END:VEVENT
END:VCALENDAR
